BEGIN:VCALENDAR
VERSION:2.0
PRODID:-//SASA East District - ECPv6.6.2//NONSGML v1.0//EN
CALSCALE:GREGORIAN
METHOD:PUBLISH
X-ORIGINAL-URL:https://www.sasaeastdistrict.org.uk
X-WR-CALDESC:Events for SASA East District
REFRESH-INTERVAL;VALUE=DURATION:PT1H
X-Robots-Tag:noindex
X-PUBLISHED-TTL:PT1H
BEGIN:VTIMEZONE
TZID:Europe/London
BEGIN:DAYLIGHT
TZOFFSETFROM:+0000
TZOFFSETTO:+0100
TZNAME:BST
DTSTART:20250330T010000
END:DAYLIGHT
BEGIN:STANDARD
TZOFFSETFROM:+0100
TZOFFSETTO:+0000
TZNAME:GMT
DTSTART:20251026T010000
END:STANDARD
END:VTIMEZONE
BEGIN:VEVENT
DTSTART;TZID=Europe/London:20250914T090000
DTEND;TZID=Europe/London:20250914T170000
DTSTAMP:20260420T015159
CREATED:20250702T133941Z
LAST-MODIFIED:20250702T133941Z
UID:10000356-1757840400-1757869200@www.sasaeastdistrict.org.uk
SUMMARY:Borders Leagues R1
DESCRIPTION:
URL:https://www.sasaeastdistrict.org.uk/event/borders-leagues-r1-2/
LOCATION:Galashiels Swimming Pool\, Livingstone Place\, GALASHIELS\, s\, United Kingdom
CATEGORIES:Swimming
ATTACH;FMTTYPE=image/jpeg:https://www.sasaeastdistrict.org.uk/wp-content/uploads/2024/08/Galashiels.jpg
END:VEVENT
END:VCALENDAR