BEGIN:VCALENDAR
VERSION:2.0
PRODID:-//SASA East District - ECPv6.6.2//NONSGML v1.0//EN
CALSCALE:GREGORIAN
METHOD:PUBLISH
X-WR-CALNAME:SASA East District
X-ORIGINAL-URL:https://www.sasaeastdistrict.org.uk
X-WR-CALDESC:Events for SASA East District
REFRESH-INTERVAL;VALUE=DURATION:PT1H
X-Robots-Tag:noindex
X-PUBLISHED-TTL:PT1H
BEGIN:VTIMEZONE
TZID:Europe/London
BEGIN:DAYLIGHT
TZOFFSETFROM:+0000
TZOFFSETTO:+0100
TZNAME:BST
DTSTART:20250330T010000
END:DAYLIGHT
BEGIN:STANDARD
TZOFFSETFROM:+0100
TZOFFSETTO:+0000
TZNAME:GMT
DTSTART:20251026T010000
END:STANDARD
END:VTIMEZONE
BEGIN:VEVENT
DTSTART;TZID=Europe/London:20250302T080000
DTEND;TZID=Europe/London:20250302T170000
DTSTAMP:20260422T034814
CREATED:20250116T134039Z
LAST-MODIFIED:20250116T134039Z
UID:10000221-1740902400-1740934800@www.sasaeastdistrict.org.uk
SUMMARY:Inverclyde Masters
DESCRIPTION:
URL:https://www.sasaeastdistrict.org.uk/event/inverclyde-masters-2/
LOCATION:Waterfront Leisure Complex\, Customhouse Way\, GREENOCK\, PA15 1EW\, United Kingdom
CATEGORIES:Masters
ATTACH;FMTTYPE=image/png:https://www.sasaeastdistrict.org.uk/wp-content/uploads/2025/01/Waterfront-Greenock.png
END:VEVENT
BEGIN:VEVENT
DTSTART;TZID=Europe/London:20250301T090000
DTEND;TZID=Europe/London:20250301T170000
DTSTAMP:20260422T034814
CREATED:20250116T133550Z
LAST-MODIFIED:20250116T134159Z
UID:10000220-1740819600-1740848400@www.sasaeastdistrict.org.uk
SUMMARY:Inverclyde Masters
DESCRIPTION:
URL:https://www.sasaeastdistrict.org.uk/event/inverclyde-masters/
LOCATION:Waterfront Leisure Complex\, Customhouse Way\, GREENOCK\, PA15 1EW\, United Kingdom
CATEGORIES:Masters
ATTACH;FMTTYPE=image/png:https://www.sasaeastdistrict.org.uk/wp-content/uploads/2025/01/Waterfront-Greenock.png
END:VEVENT
END:VCALENDAR